BEGIN:VCALENDAR
VERSION:2.0
PRODID:-//Senat der Wirtschaft - ECPv6.0.12//NONSGML v1.0//EN
CALSCALE:GREGORIAN
METHOD:PUBLISH
X-WR-CALNAME:Senat der Wirtschaft
X-ORIGINAL-URL:https://senat.at
X-WR-CALDESC:Veranstaltungen für Senat der Wirtschaft
REFRESH-INTERVAL;VALUE=DURATION:PT1H
X-Robots-Tag:noindex
X-PUBLISHED-TTL:PT1H
BEGIN:VTIMEZONE
TZID:Europe/Vienna
BEGIN:DAYLIGHT
TZOFFSETFROM:+0100
TZOFFSETTO:+0200
TZNAME:CEST
DTSTART:20250330T010000
END:DAYLIGHT
BEGIN:STANDARD
TZOFFSETFROM:+0200
TZOFFSETTO:+0100
TZNAME:CET
DTSTART:20251026T010000
END:STANDARD
END:VTIMEZONE
BEGIN:VEVENT
DTSTART;TZID=Europe/Vienna:20251120T100000
DTEND;TZID=Europe/Vienna:20251120T100000
DTSTAMP:20260422T211634
CREATED:20251021T101802Z
LAST-MODIFIED:20251022T081643Z
UID:45653-1763632800-1763632800@senat.at
SUMMARY:Fachforum „Modernes Mitarbeiterwohnen“ im Krallerhof Leogang
DESCRIPTION:Die Veranstaltung richtet sich an Hoteliers\, Tourismusbetriebe\, Bauträger und Entscheidungsträger\, die zukunftsfähige und wirtschaftlich realisierbare Wohnlösungen für Mitarbeiter suchen.\nMit dem Bau von 57 schlüsselfertigen Mitarbeiterwohnungen für den Krallerhof hat Timber House in nur drei Monaten eindrucksvoll gezeigt\, was moderne serielle Holzmodulbauweise leisten kann: schnell\, effizient und qualitativ hochwertig. Dieses Projekt beweist\, dass attraktives Mitarbeiterwohnen kein langfristiges Wunschdenken mehr ist – sondern bereits heute Realität. \nDas Fachforum bietet die Gelegenheit\, aus erster Hand zu erfahren\, wie moderne und bezugsfertige Personalwohnungen neue Wege in der Mitarbeiterbindung eröffnen. Denn wer seinen Mitarbeitenden ein Zuhause bietet\, schafft die Grundlage für Zufriedenheit\, Motivation und langfristige Zusammenarbeit. \nIn spannenden Vorträgen und praxisnahen Beispielen wird gezeigt\, wie sich durch Holzmodulbauweise entscheidende Vorteile erzielen lassen – von verkürzten Bauzeiten und planbaren Kosten bis hin zu nachhaltigen\, wirtschaftlichen Effekten wie reduzierten Bauzinsen. Teilnehmende erhalten wertvolle Einblicke\, wie sie die Zukunft ihres Unternehmens und ihrer Belegschaft aktiv gestalten können. \nEin besonderes Highlight des Programms ist die Keynote von Ing. Mag. Dr. Christoph Nussbaumer\, CMNC\, Gründer von Nussbaumer Strategie & Beratung\, Experte für Preisstrategie in der Hotellerie\, Autor des Fachbuchs „Power Pricing in der Hotellerie“ und Constantinus Award Gewinner 2024. \nDas Fachforum im exklusiven Ambiente des Krallerhofs bietet neben spannenden Fachimpulsen auch Raum für persönlichen Austausch\, Networking und Inspiration rund um die Themen Mitarbeiterbindung\, Wohnkonzepte und nachhaltiges Bauen. \nDie Veranstaltung richtet sich an Hoteliers\, Tourismusbetriebe\, Bauträger und Entscheidungsträger\, die zukunftsfähige und wirtschaftlich realisierbare Wohnlösungen für  Mitarbeiter suchen. \nMit dem Bau von 57 schlüsselfertigen Mitarbeiterwohnungen für den Krallerhof hat Timber House in nur drei Monaten eindrucksvoll gezeigt\, was moderne serielle Holzmodulbauweise leisten kann: schnell\, effizient und qualitativ hochwertig. Dieses Projekt beweist\, dass attraktives Mitarbeiterwohnen kein langfristiges Wunschdenken mehr ist – sondern bereits heute Realität. \nDas Fachforum bietet die Gelegenheit\, aus erster Hand zu erfahren\, wie moderne und bezugsfertige Personalwohnungen neue Wege in der Mitarbeiterbindung eröffnen. Denn wer seinen Mitarbeitenden ein Zuhause bietet\, schafft die Grundlage für Zufriedenheit\, Motivation und langfristige Zusammenarbeit. \nIn spannenden Vorträgen und praxisnahen Beispielen wird gezeigt\, wie sich durch Holzmodulbauweise entscheidende Vorteile erzielen lassen – von verkürzten Bauzeiten und planbaren Kosten bis hin zu nachhaltigen\, wirtschaftlichen Effekten wie reduzierten Bauzinsen. Teilnehmende erhalten wertvolle Einblicke\, wie sie die Zukunft ihres Unternehmens und ihrer Belegschaft aktiv gestalten können. \nEin besonderes Highlight des Programms ist die Keynote von Ing. Mag. Dr. Christoph Nussbaumer\, CMNC\, Gründer von Nussbaumer Strategie & Beratung\, Experte für Preisstrategie in der Hotellerie\, Autor des Fachbuchs „Power Pricing in der Hotellerie“ und Constantinus Award Gewinner 2024. \nDas Fachforum im exklusiven Ambiente des Krallerhofs bietet neben spannenden Fachimpulsen auch Raum für persönlichen Austausch\, Networking und Inspiration rund um die Themen Mitarbeiterbindung\, Wohnkonzepte und nachhaltiges Bauen. \nWeitere Informationen \nAnmeldung \n 
URL:https://senat.at/event/fachforum-modernes-mitarbeiterwohnen-im-krallerhof-leogang/
LOCATION:Krallerhof\, Rain 6\, Leogang\, Salzburg\, 5771
ATTACH;FMTTYPE=image/jpeg:https://senat.at/wp-content/uploads/SG-062025-MitarbeiterhausKrallerhof_SGP0676_web-rcgsv5c5ll7c1l4x70ifgd16wbknqt20w30ocsdeao.jpg
END:VEVENT
BEGIN:VEVENT
DTSTART;VALUE=DATE:20251128
DTEND;VALUE=DATE:20251129
DTSTAMP:20260422T211634
CREATED:20250204T114951Z
LAST-MODIFIED:20251010T112825Z
UID:42131-1764309600-1764309600@senat.at
SUMMARY:Jahresausklang 2025
DESCRIPTION:Die traditionelle Jahresausklangsveranstaltung des SENAT DER WIRTSCHAFT findet heuer am 28. November auf Schloss Mondsee statt. \nSichern Sie sich jetzt schon den Termin für dieses exklusive Event\, das zahlreiche Highlights bereithält und die Gelegenheit bietet\, das Jahr gemeinsam mit Wegbegleitern\, Partnern und Entscheidungsträgern gebührend ausklingen zu lassen. Freuen Sie sich auf inspirierende Impulse\, wertvolle Gespräche und ein festliches Ambiente – es wird ein unvergesslicher Abend! \nWeitere Informationen \n 
URL:https://senat.at/event/jahresausklang-2025/
LOCATION:Schloss Mondsee\, Schloßhof 1A\, Mondsee\, Oberösterreich\, 5310
CATEGORIES:Netzwerk-Veranstaltungen,SENATs-Veranstaltungen
ATTACH;FMTTYPE=image/png:https://senat.at/wp-content/uploads/Event_Sujet_Jahresausklang_845x321px_05.png
END:VEVENT
END:VCALENDAR