BEGIN:VCALENDAR
VERSION:2.0
PRODID:-//Senat der Wirtschaft - ECPv6.0.12//NONSGML v1.0//EN
CALSCALE:GREGORIAN
METHOD:PUBLISH
X-ORIGINAL-URL:https://senat.at
X-WR-CALDESC:Veranstaltungen für Senat der Wirtschaft
REFRESH-INTERVAL;VALUE=DURATION:PT1H
X-Robots-Tag:noindex
X-PUBLISHED-TTL:PT1H
BEGIN:VTIMEZONE
TZID:Europe/Vienna
BEGIN:DAYLIGHT
TZOFFSETFROM:+0100
TZOFFSETTO:+0200
TZNAME:CEST
DTSTART:20250330T010000
END:DAYLIGHT
BEGIN:STANDARD
TZOFFSETFROM:+0200
TZOFFSETTO:+0100
TZNAME:CET
DTSTART:20251026T010000
END:STANDARD
END:VTIMEZONE
BEGIN:VEVENT
DTSTART;TZID=Europe/Vienna:20250911T170000
DTEND;TZID=Europe/Vienna:20250911T230000
DTSTAMP:20260423T010358
CREATED:20250714T100619Z
LAST-MODIFIED:20250715T120446Z
UID:45084-1757610000-1757631600@senat.at
SUMMARY:HEALTH & SPORTS NIGHT
DESCRIPTION:Ein exklusiver Abend für alle\, die Gesundheit im Unternehmen nicht nur predigen\, sondern leben wollen. \n\nWas Sie erwartet:\nFlorian Gschwandtner & Clemens Doppler live auf der Bühne\nVerkostung by fit2go meals\nInspiration & Insights von b2bXsund & SPORTBOX\nNetworking direkt am Wasser
URL:https://senat.at/event/health-sports-night/
LOCATION:Spezi Sportinsel\, Georg-Danzer-Steg\, Wien\, 1210
ATTACH;FMTTYPE=image/png:https://senat.at/wp-content/uploads/Image-1.png
END:VEVENT
BEGIN:VEVENT
DTSTART;TZID=Europe/Vienna:20250924T150000
DTEND;TZID=Europe/Vienna:20250924T203000
DTSTAMP:20260423T010358
CREATED:20250204T114328Z
LAST-MODIFIED:20250924T060232Z
UID:42120-1758726000-1758745800@senat.at
SUMMARY:Bürokratieabbau und Wirtschaftsstandortsanierung – wo anfangen?
DESCRIPTION:Ablauf \nLocation 1 | Schweizerstrasse 30 \n\nAb 15.00 Uhr        Check-In\n15.30 h                   Beginn Werksführung Fabrik (Schweizerstrasse 30)        \n\nLocation 2 | Höchsterstrasse 8 \n\n17.00 h        Eintreffen Lichtforum (Höchsterstrasse 8) | Aperitif\n17.30 h                    Start im Lichtforum\nProgramm\n \n\nBegrüßung Ludwig Stepan | SENAT DER WIRTSCHAFT\nBegrüßung Dr. Alfred Felder | ZUMTOBEL Group AG\nUnternehmensvorstellung ZUMTOBEL Group durch Dr. Alfred Felder\nKeynote Mag. Gerald Loacker\nPodiumsdiskussion\n\n\n19.00 h                   Networking\n21.00 h           Ende            \n\nParkmöglichkeiten: \n\nWerksführung – Schweizerstraße 30\nRahmenprogramm Lichtforum – Höchsterstrasse 8\n\nParkplätze @Zumtobel Group Lichtforum\, Höchsterstraße 8\, 6850 Dornbirn \n\n13 Besucherparkplätze\n105 Mitarbeiterparkplätze (können auch von Besuchern benutzt werden)\n\nÖffentliche Parkplätze (gebührenpflichtig) \nParkplatz Schorenareal\, Viehmarktplatz \nca. 500 Meter vom Lichtforum entfernt \nUnterkunftsmöglichkeit zu Sonderkonditionen: \nHotel Krone\, Dornbirn \n24.09.2025 – 25.09.2025 \n10 x Superior Zimmer € 122\,00 Zimmer Nacht inkl. Frühstück + Gästetaxe
URL:https://senat.at/event/buerokratieabbau-und-wirtschaftsstandortsanierung-wo-anfangen/
LOCATION:Zumtobel Group\, Dornbirn\, Vorarlberg\, 6850
ATTACH;FMTTYPE=image/png:https://senat.at/wp-content/uploads/2160x1080_Eventbride_STD_LOUNGE_ZUMTOBEL_0225-1500x750-1.png
END:VEVENT
END:VCALENDAR