BEGIN:VCALENDAR
VERSION:2.0
PRODID:-//Senat der Wirtschaft - ECPv6.0.12//NONSGML v1.0//EN
CALSCALE:GREGORIAN
METHOD:PUBLISH
X-ORIGINAL-URL:https://senat.at
X-WR-CALDESC:Veranstaltungen für Senat der Wirtschaft
REFRESH-INTERVAL;VALUE=DURATION:PT1H
X-Robots-Tag:noindex
X-PUBLISHED-TTL:PT1H
BEGIN:VTIMEZONE
TZID:Europe/Vienna
BEGIN:DAYLIGHT
TZOFFSETFROM:+0100
TZOFFSETTO:+0200
TZNAME:CEST
DTSTART:20250330T010000
END:DAYLIGHT
BEGIN:STANDARD
TZOFFSETFROM:+0200
TZOFFSETTO:+0100
TZNAME:CET
DTSTART:20251026T010000
END:STANDARD
END:VTIMEZONE
BEGIN:VEVENT
DTSTART;TZID=Europe/Vienna:20250701T080000
DTEND;TZID=Europe/Vienna:20250830T170000
DTSTAMP:20260423T064549
CREATED:20250121T090241Z
LAST-MODIFIED:20250327T131901Z
UID:41966-1751356800-1756573200@senat.at
SUMMARY:Salzburger Festspiele | Juli\, August 2025
DESCRIPTION:Es ist uns eine besondere Freude\, Ihnen auch in diesem Jahr ein exklusives VIP-Package für die renommierten Salzburger Festspiele 2025 anbieten zu können. Dieses maßgeschneiderte Package beinhaltet unter anderem Tickets für die begehrtesten Aufführungen\, den Audi VIP Shuttle\, erstklassige Übernachtungen und viele weitere Annehmlichkeiten\, um Ihnen ein unvergleichliches Erlebnis zu bereiten. \nDie Höhepunkte des Programms\, zu denen wir Sie herzlich einladen\, sind: \n\nHotel Metamorphosis (Vivaldi / Ovid) – Donnerstag\, 31. Juli\, 19.00 Uhr – Premiere\nMaria Stuarda (Donizetti) – Freitag\, 1. August\, 18.00 Uhr – Premiere\nGiulio Cesare in Egitto – Sonntag\, 3. August\, 19.00 Uhr\n\nLassen Sie sich von der einzigartigen Atmosphäre der Salzburger Festspiele verzaubern und genießen Sie diese kulturellen Höhepunkte in exklusivem Ambiente. \nWeitere Informationen \n 
URL:https://senat.at/event/salzburger-festspiele-august-september-2025/
ATTACH;FMTTYPE=image/png:https://senat.at/wp-content/uploads/1030x511_Website_02_SZB_FESTSPIELE_NEU.png
END:VEVENT
BEGIN:VEVENT
DTSTART;TZID=Europe/Vienna:20250708T173000
DTEND;TZID=Europe/Vienna:20250708T220000
DTSTAMP:20260423T064549
CREATED:20250602T094154Z
LAST-MODIFIED:20250602T101252Z
UID:44823-1751995800-1752012000@senat.at
SUMMARY:Klarheit führt
DESCRIPTION:In einer Welt\, in der Führung zunehmend von Druck\, Tempo und Komplexität bestimmt wird\, braucht es etwas anderes: Klarheit – nicht als leeres Schlagwort\, sondern als innere Haltung\, als Entscheidungsgrundlage und als wirksames Führungsinstrument. Denn Klarheit führt. Und sie beginnt bei uns selbst. \nDie Veranstaltung „Klarheit führt“ richtet sich an Menschen mit Verantwortung – Unternehmer\, Geschäftsführer\, Nachfolger\, Führungskräfte – die spüren: Es darf leichter werden. Präziser. Kraftvoller. Echter. Sie alle eint der Wunsch nach echter Orientierung – für sich selbst und andere. \nDer Abend wird bewusst anders gestaltet: persönlich\, klar\, tiefgehend. \nAblauf \n17.30 – 18.00 Uhr: Ankommen \n\n18.00 – 18.10 Uhr: Begrüßung & Eröffnung durch die Gastgeberin\n18.10 – 18.30 Uhr: Keynote Doris Bösmüller:\n„Warum Klarheit ein Erfolgsfaktor ist“\n18.30 – 19.30 Uhr: Drei Klarheitsrunden im World Café-Format – mit inspirierenden Unternehmer:innen\, die ihre Erfahrungen und Perspektiven offen und authentisch teilen.\n\nKlarheit in der Unternehmensnachfolge\nWas braucht es\, um zwischen Loslassen und Übernehmen wirklich klar zu führen?\nMit Thomas – Peter Ebm\, Geschäftsführer Wiener Privatklinik\nKlarheit in der Führung\nWie gelingt Führung\, wenn sie nicht nur Leistung fordert\, sondern Sinn und Purpose fördert?\nMit Johann Pinterits\, Geschäftsführer\, GMS Gourmet GmbH\nKlarheit in mir\nWas bringt mich in meine innere Ruhe\, Präsenz und Entscheidungskraft?\nMit Andrea Fuchs\, Unternehmerin\, Head of Hospitality\, Sans Souci Sphere \n\n19.30 – 20.00 Uhr: Von aller Klarheit profitieren und Abschluss\nab 20.00 Uhr – 22.00 Uhr: Genussvolle Gastfreundschaft\n\nModeration: Claudia Spary\, Zielgruppenberatung Spary \nFür wen dieser Abend ist\nUnternehmer\, Geschäftsführer und Nachfolger.\nMenschen in Verantwortung\, die wissen\, dass Klarheit eine wichtige Führungskompetenz ist und die mehr davon wollen. \nWas diesen Abend besonders macht\nDie Initiatorin des Abends\, Doris Bösmüller\, Klarheits-Coach\, holistische Unternehmensberaterin und langjährige Geschäftsführerin\, verfolgt mit dieser Veranstaltung ein klares Ziel: Sie möchte Leader zusammenbringen\, die sich einige Stunden bewusst Zeit nehmen für Klarheit. \nEs geht darum\, dass Klarheit nicht nur gedacht\, sondern erlebt wird. Durch Impulse\, Austausch\, Tiefe – und dem Gefühl: Diese Zeit war wertvoll. Und sie wirkt weiter. \nTeilnahmebeitrag: € 50\,- \nTeilnehmerzahl: 50 \nAnmeldung hier
URL:https://senat.at/event/klarheit-fuehrt/
LOCATION:Bösmüller Communication Center Wien\, Obere Augartenstraße 32\, Wien\, 1020
ATTACH;FMTTYPE=image/png:https://senat.at/wp-content/uploads/Boesmueller-1.png
END:VEVENT
BEGIN:VEVENT
DTSTART;TZID=Europe/Vienna:20250716T080000
DTEND;TZID=Europe/Vienna:20250719T170000
DTSTAMP:20260423T064549
CREATED:20250422T074816Z
LAST-MODIFIED:20250422T075218Z
UID:44071-1752652800-1752944400@senat.at
SUMMARY:10. Weltkongress für Psychotherapie
DESCRIPTION:Verpassen Sie nicht die Gelegenheit\, bei einem der größten internationalen Psychotherapie-Kongresse dabei zu sein! Der 10. Weltkongress für Psychotherapie versammelt mehr als 400 renommierte Vortragende aus aller Welt und bietet Ihnen eine einzigartige Plattform für fachlichen Austausch\, Weiterbildung und interdisziplinäre Begegnung. \nHighlights des Kongresses \n🌍Internationale Fachvorträge von über 400 Expert:innen aus Forschung\, Praxis und Ausbildung \n🎤Keynote Speakers wie Peter Fonagy\, Mark Solms\, Emmy van Deurzen\, Alfried Längle\, Judy Kuriansky\, Sigrun Roßmanith  und viele mehr\n🤝Exzellente Networking-Möglichkeiten mit führenden Persönlichkeiten aus der Psychotherapie\, Psychologie\, Medizin und anderen Fächern\n💡 Aktuelle Themen\, innovative Ansätze und wissenschaftlich fundierte Diskussionen\n📖 Fortbildungspunkte sowohl für Ärzte\, Psychologen und Psychotherapeuten \nEinen ersten Einblick in das vielfältige und interdisziplinäre Programm erhalten Sie unter folgendem Link: \n👉https://www.wcp2025.at/congress-schedule.html \nBesonders freuen wir uns\, Ihnen ein exklusives Special anzubieten: \nMit dem Code Special10 erhalten Sie bis zum 30. April 2025 noch 10 % Ermäßigung auf Ihre Buchung. \nTickets können Sie unter folgenden Adresse erwerben: https://ticketshop.wcp2025.at/shop/registrations/107a4e8f-3675-4166-a55a-24f00c60867e/tickets/new \nWir freuen uns sehr auf Ihre Teilnahme und auf ein inspirierendes Miteinander!
URL:https://senat.at/event/10-weltkongress-fuer-psychotherapie/
LOCATION:📍Sigmund Freud Universität\, Freudplatz 1\, Wien\, 1020
ATTACH;FMTTYPE=image/png:https://senat.at/wp-content/uploads/Psychotherapy.png
END:VEVENT
BEGIN:VEVENT
DTSTART;TZID=Europe/Vienna:20250725T080000
DTEND;TZID=Europe/Vienna:20250725T170000
DTSTAMP:20260423T064549
CREATED:20250725T093947Z
LAST-MODIFIED:20250725T093947Z
UID:45129-1753430400-1753462800@senat.at
SUMMARY:mountX Gipfeltreffen in Kärnten
DESCRIPTION:Es ist endlich so weit – das erste Vor-Ort-Gipfeltreffen steht vor der Tür! \nHalten Sie sich den 18. September 2025 frei und freue dich auf ein inspirierendes Tagesevent mit anschließendem Abendessen im Inselhotel Faaker See. \nWas Sie erwartet: \n\nSpannende Kundenvorträge aus dem Bereich Service Management\nExklusive Einblicke in die Entwicklungen von mountX und Matrix42\nNetworking in entspannter Atmosphäre\nKulinarischer Ausklang am See\nAnmeldungen per Mail an office@mountx.at \nVorläufige Agenda: \n09:00 10:00 Anreise\, Welcome\n10:00 10:30 Eröffnung | Neues von mountX\n10:30 11:00 News | Roadmap Matrix42\n11:00 11:30 Kundenvortrag I \n11:30 11:45 Pause \n11:45 12:15 Kundenvortrag II \n12:15 13:15 Mittagspause \n13:15 13:45 Matrix42 Intelligence\n13:45 14:15 Kundenvortrag III \n14:15 14:30 Pause \n14:30 15:00 Neues zu FastViewer\n15:00 15:30 Kundenvortrag IV \n15:30 15:40 Pause \n15:40 16:10 Kundenvortrag V\n16:10 17:00 Impulsvortrag von Dieter Kalt \n17:00 17:10 Closing Words \n17:10 18:00 Networking\n18:00 Abendessen
URL:https://senat.at/event/mountx-gipfeltreffen-in-kaernten/
ATTACH;FMTTYPE=image/png:https://senat.at/wp-content/uploads/1750941652515.png
END:VEVENT
BEGIN:VEVENT
DTSTART;TZID=Europe/Vienna:20250729T170000
DTEND;TZID=Europe/Vienna:20250729T210000
DTSTAMP:20260423T064549
CREATED:20250626T104443Z
LAST-MODIFIED:20250626T104443Z
UID:44992-1753808400-1753822800@senat.at
SUMMARY:RTS Inside: Ein besonderer Abend
DESCRIPTION:Im Namen unseres Vorstandsvorsitzenden Hans Harrer sowie unserer Senatoren Josef Aichinger und Carmen Aichinger\, in Vertretung von RTS Regional TV Salzburg\, laden wir Sie herzlich zu einem besonderen Abend ein\, der inspirierende Einblicke\, wertvolle Impulse und Raum für persönlichen Austausch in einem ebenso stilvollen wie anregenden Rahmen bietet. \nAm Dienstag\, 29. Juli 2025\, öffnet das Team von RTS Regional TV Salzburg exklusiv für den Senat der Wirtschaft seine Türen. Freuen Sie sich auf einen spannenden Blick hinter die Kulissen regionaler Medienarbeit und darauf\, wie journalistische Berichterstattung positive Perspektiven sichtbar machen kann – mit echten Geschichten\, klarer Haltung und gelebter regionaler Verantwortung. \nEin besonderes Highlight des Abends: Manuela Wenger\, bekannt als „Die Wertschätzerin“\, wird in ihrem inspirierenden Impulsvortrag aufzeigen\, wie Wertschöpfung durch gelebte Wertschätzung in der Unternehmenskultur gelingt – authentisch\, wirksam und praxisnah. \nBeim anschließenden Austausch bleibt bei kulinarischer Begleitung reichlich Gelegenheit für neue Perspektiven\, verbindende Gespräche und persönlichen Dialog auf Augenhöhe. \nDresscode: Business Casual \nTeilnehmerzahl limitiert – melden Sie sich rasch an und sichern Sie sich Ihren Platz. First come\, first served!
URL:https://senat.at/event/rts-inside-ein-besonderer-abend/
LOCATION:RTS Regional TV Salzburg\, Ludwig-Bieringer-Platz 1\, Himmelreich\, 5071
ATTACH;FMTTYPE=image/png:https://senat.at/wp-content/uploads/RTS-4-e1750934661644.png
END:VEVENT
BEGIN:VEVENT
DTSTART;TZID=Europe/Vienna:20250731T153000
DTEND;TZID=Europe/Vienna:20250731T220000
DTSTAMP:20260423T064549
CREATED:20250210T141250Z
LAST-MODIFIED:20250701T150404Z
UID:42582-1753975800-1753999200@senat.at
SUMMARY:Villacher Kirchtag
DESCRIPTION:Einladung zum Villacher Kirchtag – Ein Fest der Tradition und Freude \nGemeinsam mit unseren geschätzten Senatoren Helmut Petschar (Kärntnermilch) und René Tarmastin (LHI Euronationale Spedition) laden wir Sie herzlich ein\, den Villacher Kirchtag zu erleben – das Highlight der Brauchtumswoche in Villachs wunderschön geschmückter Altstadt. \nMit rund 450.000 Besuchern ist der Villacher Kirchtag das größte Brauchtumsfest Österreichs und zieht jedes Jahr zahlreiche Gäste an. Über 200 Aussteller aus vielen Teilen des Landes sorgen für ein reichhaltiges Angebot an Speisen\, Getränken und Unterhaltung für Jung und Alt. Lassen Sie sich von der traditionellen Atmosphäre verzaubern – bei einem spannenden Enten ziehen oder einem köstlichen Lebkuchenherz. \nEckdaten der Veranstaltung: \n📅 Datum: 31. Juli 2025\n⏰ Uhrzeit: Empfang pünktlich um 15.30 Uhr\n📍  Ort: Genuss-Meierei Villach\, Industriestraße 3\, 9524 Villach \nFreuen Sie sich ab 15:30 Uhr auf ein abwechslungsreiches Rahmenprogramm in der Genuss-Meierei\, das kulinarische Raffinesse mit regionaler Gastfreundschaft verbindet. Um 16:45 Uhr laden wir Sie zu einem gemeinsamen Spaziergang in die Innenstadt zum Villacher Kirtag ein. Dort erwartet Sie im Lokal “29er” ein zünftiger Bieranstich – begleitet vom feierlichen Hochleben des SENAT durch unseren Partner BauernGman. \nAnmeldung \nHotelempfehlung: \nHotel Seven: https://www.hotel-seven.at/\nHotel Voco: https://www.ihg.com/voco/hotels/de/de/villach\nHotel City: https://hotelcity.at/ \nGenießen Sie inspirierende Gespräche\, stimmungsvolle Atmosphäre und den Austausch mit engagierten Persönlichkeiten aus dem Netzwerk des SENAT.
URL:https://senat.at/event/villacher-kirchtag/
ATTACH;FMTTYPE=image/png:https://senat.at/wp-content/uploads/2160x1080_Eventbride_Villacher_Kirchtag_0125-1.png
END:VEVENT
END:VCALENDAR