BEGIN:VCALENDAR
VERSION:2.0
PRODID:-//Senat der Wirtschaft - ECPv6.0.12//NONSGML v1.0//EN
CALSCALE:GREGORIAN
METHOD:PUBLISH
X-ORIGINAL-URL:https://senat.at
X-WR-CALDESC:Veranstaltungen für Senat der Wirtschaft
REFRESH-INTERVAL;VALUE=DURATION:PT1H
X-Robots-Tag:noindex
X-PUBLISHED-TTL:PT1H
BEGIN:VTIMEZONE
TZID:Europe/Vienna
BEGIN:DAYLIGHT
TZOFFSETFROM:+0100
TZOFFSETTO:+0200
TZNAME:CEST
DTSTART:20250330T010000
END:DAYLIGHT
BEGIN:STANDARD
TZOFFSETFROM:+0200
TZOFFSETTO:+0100
TZNAME:CET
DTSTART:20251026T010000
END:STANDARD
END:VTIMEZONE
BEGIN:VEVENT
DTSTART;VALUE=DATE:20250605
DTEND;VALUE=DATE:20250612
DTSTAMP:20260423T064549
CREATED:20250204T113908Z
LAST-MODIFIED:20250204T152214Z
UID:42116-1749103200-1749621599@senat.at
SUMMARY:Delegationsreise nach Shanghai
DESCRIPTION:Der SENAT DER WIRTSCHAFT Österreich & Schweiz laden zur exklusiven Experience Tour nach Shanghai ein! \nVom 5. bis 10. Juni 2025 erleben Sie mit uns die bedeutendste Industriestadt Chinas. Shanghai steht für internationale Offenheit\, Luxus und Innovation: Der Bund\, die berühmteste Uferpromenade\, die lebendige Nanjing Road mit unzähligen Einkaufsmöglichkeiten und die kulinarischen Highlights der Shouning Lu Street warten darauf\, von Ihnen entdeckt zu werden. \nWeitere Informationen \n 
URL:https://senat.at/event/delegationsreise-nach-shanghai/
CATEGORIES:Netzwerk-Veranstaltungen,SENATs-Veranstaltungen,Wirtschaft
ATTACH;FMTTYPE=image/png:https://senat.at/wp-content/uploads/2160x1080_Eventbride_STD_Delegationsreise_Shanghai_0125.png
END:VEVENT
BEGIN:VEVENT
DTSTART;TZID=Europe/Vienna:20250612T170000
DTEND;TZID=Europe/Vienna:20250612T210000
DTSTAMP:20260423T064549
CREATED:20250305T102240Z
LAST-MODIFIED:20250605T114045Z
UID:43560-1749747600-1749762000@senat.at
SUMMARY:Wirtschaftsstandort Österreich: Sind wir noch konkurrenzfähig?
DESCRIPTION:Im Namen unseres Vorstandsvorsitzenden Hans Harrer sowie unseres Senators Mag. Manfred Kimmel\, Geschäftsführer des SENAT-Partnerunternehmen TRANSPORTEX GmbH\, dürfen wir Sie herzlich zur exklusiven SENATs-Lounge Veranstaltung am Donnerstag\, 12. Juni 2025 ab 17.00 Uhr in Ebbs einladen. \nEckdaten der Veranstaltung:\n📅 Datum: 12. Juni 2025\n⏰ Uhrzeit: ab 17.00 Uhr\n📍 Ort: TRANSPORTEX GmbH\, Waldeck 3\, 6341 Ebbs \n„Wir möchten Sie höflich darauf hinweisen\, dass der Veranstaltungsbeginn auf 17:00 Uhr verlegt wurde. Wir bitten um entsprechende Beachtung und danken für Ihr Verständnis.“ \nMittelstand im Spannungsfeld wachsender Bürokratie und überproportional hoher Lohnnebenkosten \nDer administrative Aufwand wächst kontinuierlich – von Italiens EuGH-Klage wegen Transitproblemen über die EU-Lieferkettenrichtlinie bis hin zu steigenden Sozialabgaben. Diese fortschreitenden Belastungen lasten schwer auf dem Unternehmertum und gefährden spürbar die Wettbewerbsfähigkeit des Wirtschaftsstandorts Österreich. \nIm Rahmen dieser Veranstaltung diskutieren wir gemeinsam mit den Tiroler Landtagsabgeordneten Georg Dornauer (SPÖ) und Landtagsabgeordneten Sebastian Kolland (ÖVP)\, sowie Senator Harald Höpperger (Höpperger Umweltschutz) die drängendsten Herausforderungen die drängendsten Herausforderungen: die stark steigenden Lohnnebenkosten\, den Reformstau durch nationale Überregulierung und „Gold Plating“\, die mangelnde internationale Wettbewerbsfähigkeit der Logistikbranche sowie das Belastungspaket von Finanzminister Dr. Markus Marterbauer. \nZur Anmeldung: bitte hier klicken \nWir freuen uns sehr darauf\, Sie am 12. Juni 2025 persönlich zu begrüßen und gemeinsam mit Ihnen richtungsweisende Impulse für die Zukunft zu setzen.
URL:https://senat.at/event/weg-mit-dem-stau-in-buerokratie-und-landstrasse/
LOCATION:Transportex GmbH\, Waldeck 3\, Ebbs\, 6341
ATTACH;FMTTYPE=image/png:https://senat.at/wp-content/uploads/2025-06-12_Transoortex_V3.png
END:VEVENT
END:VCALENDAR