BEGIN:VCALENDAR
VERSION:2.0
PRODID:-//Senat der Wirtschaft - ECPv6.0.12//NONSGML v1.0//EN
CALSCALE:GREGORIAN
METHOD:PUBLISH
X-WR-CALNAME:Senat der Wirtschaft
X-ORIGINAL-URL:https://senat.at
X-WR-CALDESC:Veranstaltungen für Senat der Wirtschaft
REFRESH-INTERVAL;VALUE=DURATION:PT1H
X-Robots-Tag:noindex
X-PUBLISHED-TTL:PT1H
BEGIN:VTIMEZONE
TZID:Europe/Vienna
BEGIN:DAYLIGHT
TZOFFSETFROM:+0100
TZOFFSETTO:+0200
TZNAME:CEST
DTSTART:20250330T010000
END:DAYLIGHT
BEGIN:STANDARD
TZOFFSETFROM:+0200
TZOFFSETTO:+0100
TZNAME:CET
DTSTART:20251026T010000
END:STANDARD
END:VTIMEZONE
BEGIN:VEVENT
DTSTART;VALUE=DATE:20250303
DTEND;VALUE=DATE:20250308
DTSTAMP:20260423T115436
CREATED:20250204T115449Z
LAST-MODIFIED:20250204T150416Z
UID:42139-1740981600-1741327199@senat.at
SUMMARY:Delegationsreise nach Thessaloniki
DESCRIPTION:SENAT DER WIRTSCHAFT Österreich und Deutschland laden Sie herzlich zu unserer Delegationsreise nach Thessaloniki ein! \nDie zweitgrößte Stadt Griechenlands entwickelt sich rasant zu einem bedeutenden Wirtschafts- und Technologiestandort Europas. Dank ihrer exzellenten Hochschullandschaft und strategischen Lage bietet sie eine ideale Plattform für Innovation und Zusammenarbeit. \nDie Delegationsreise erfolgt unter der Leitung von Senator Dr. Andreas Rebetzky mit Vertreternn aus Politik\, Wirtschaft und Kultur\, um die wirtschaftlichen Verbindungen zwischen Deutschland\, Österreich und Griechenland zu vertiefen. \nWeitere Informationen \n 
URL:https://senat.at/event/delegationsreise-nach-thessaloniki/
CATEGORIES:Netzwerk-Veranstaltungen,SENATs-Veranstaltungen
ATTACH;FMTTYPE=image/png:https://senat.at/wp-content/uploads/2160x1080_Eventbride_STD_Thessaloniki.png
END:VEVENT
BEGIN:VEVENT
DTSTART;VALUE=DATE:20250307
DTEND;VALUE=DATE:20250309
DTSTAMP:20260423T115436
CREATED:20250205T113133Z
LAST-MODIFIED:20250210T140956Z
UID:42162-1741327200-1741413599@senat.at
SUMMARY:IMARK STRATEGY BITES 3.0 Salzburg
DESCRIPTION:Unser geschätztes Präsidiumsmitglied Christoph Ettlmayr lädt zu den IMARK STRATEGY BITES 3.0 – einer exklusiven Plattform für visionäre UnternehmerInnen und Führungskräfte. Im Mittelpunkt steht die Frage\, wie Verhaltensänderungen bei Mitarbeitern gezielt gefördert werden können\, um Strategien erfolgreich umzusetzen. Von der Übersetzung relevanter Marktsignale in konkrete Handlungsfelder bis hin zur Schaffung optimaler Rahmenbedingungen für Veränderungsbereitschaft – ein wertvoller Austausch für alle\, die Strategiearbeit nachhaltig gestalten wollen. \nWeitere Informationen \n 
URL:https://senat.at/event/imark-strategy-bites-3-0-salzburg/
LOCATION:Schloss Leopoldskron\, Leopoldskronstraße 56/58\, Salzburg\, 5020\, Österreich
CATEGORIES:Bildung,Netzwerk-Veranstaltungen
ATTACH;FMTTYPE=image/jpeg:https://senat.at/wp-content/uploads/28.03.25-IMARK-STRATEGY-BITES-LINZ-scaled.jpg
END:VEVENT
BEGIN:VEVENT
DTSTART;VALUE=DATE:20250313
DTEND;VALUE=DATE:20250315
DTSTAMP:20260423T115436
CREATED:20250221T141805Z
LAST-MODIFIED:20250221T172213Z
UID:43321-1741845600-1741931999@senat.at
SUMMARY:People Skills Day Graz: Work-Life-Balance oder Life-Work-Balance?
DESCRIPTION:„Work“ oder „Life“? Kann man beides haben? Die Frage nach der Balance zwischen Karriere und Privatleben bertifft uns alle und es scheint\, als ob sich die Prioritäten derzeit verschieben. Wie beeinflussen unsere Prioritäten unser Führungsverhalten? Wie gehe ich als Führungskraft damit um\, wenn gegensätzliche Einstellungen aufeinandertreffen? Es ist an der Zeit\, Vorurteile auszuräumen und das Thema Work-Life-Balance offen zu diskutieren. Praxistipps und wertvolle Anregungen erhalten Sie am People Skills Day 2025. \nFür Senatoren steht ein exklusive Kontingent von 25 Plätzen mit 50% Rabatt bereit – first come first serve \nMehr Informationen und Anmeldung \n 
URL:https://senat.at/event/people-skills-day-graz-work-life-balance-oder-life-work-balance/
LOCATION:Steiermarkhof\, Ekkehard-Hauer-Straße 33\, Graz\, 8052
CATEGORIES:Gesundheit
ATTACH;FMTTYPE=image/jpeg:https://senat.at/wp-content/uploads/Image.jpg
END:VEVENT
BEGIN:VEVENT
DTSTART;VALUE=DATE:20250314
DTEND;VALUE=DATE:20250316
DTSTAMP:20260423T115436
CREATED:20250205T113957Z
LAST-MODIFIED:20250205T113957Z
UID:42173-1741932000-1742018399@senat.at
SUMMARY:IMARK STRATEGY BITES 3.0 Linz
DESCRIPTION:Unser geschätztes Präsidiumsmitglied Christoph Ettlmayr lädt zu den IMARK STRATEGY BITES 3.0 – einer exklusiven Plattform für visionäre UnternehmerInnen und Führungskräfte. Im Mittelpunkt steht die Frage\, wie Verhaltensänderungen bei Mitarbeitern gezielt gefördert werden können\, um Strategien erfolgreich umzusetzen. Von der Übersetzung relevanter Marktsignale in konkrete Handlungsfelder bis hin zur Schaffung optimaler Rahmenbedingungen für Veränderungsbereitschaft – ein wertvoller Austausch für alle\, die Strategiearbeit nachhaltig gestalten wollen. \nWeitere Informationen \n 
URL:https://senat.at/event/imark-strategy-bites-3-0-linz/
LOCATION:Wolfschwang Alm\, Großgmain\, Salzburg\, Buchhöhstrasse 122\, Großgmain\, Oberösterreich\, 5084\, Österreich
CATEGORIES:Bildung,Netzwerk-Veranstaltungen
ATTACH;FMTTYPE=image/png:https://senat.at/wp-content/uploads/ba22a2d1-85c3-ee85-e481-893732700e16.png
END:VEVENT
BEGIN:VEVENT
DTSTART;VALUE=DATE:20250315
DTEND;VALUE=DATE:20250318
DTSTAMP:20260423T115436
CREATED:20250211T083403Z
LAST-MODIFIED:20250211T121725Z
UID:42652-1742018400-1742191199@senat.at
SUMMARY:2. Salzburger Gesundheitstage
DESCRIPTION:Nach dem Erfolg im letzten Jahr finden zum zweiten Mal die Salzburger Gesundheitstage statt: Am 15. und 16. März 2025 laden wir Sie ganz herzlich zu dem zweitägigen Kongress ein. Alle Module sind einzeln buchbar\, ganz nach Ihren Wünschen und Interessen. Werden Sie hochansteckende Gesundheitserreger für Freunde\, Bekannte und Nachbarn und bestellen Sie die Tickets gleich mit. Mit jedem Ticketkauf unterstützen Sie wieder einen interessenkonfliktfreien Wissenstransfer! Ein einzigartiges Merkmal dieser Salzburger Gesundheitstage – komplett ohne Sponsoren aus der Pharmaindustrie. \nWeitere Informationen \nHier anmelden \n  \n \n 
URL:https://senat.at/event/2-salzburger-gesundheitstage/
ATTACH;FMTTYPE=image/jpeg:https://senat.at/wp-content/uploads/dXFJfxWi.jpeg
END:VEVENT
BEGIN:VEVENT
DTSTART;VALUE=DATE:20250325
DTEND;VALUE=DATE:20250327
DTSTAMP:20260423T115436
CREATED:20250207T082715Z
LAST-MODIFIED:20250303T130440Z
UID:42369-1742882400-1742968799@senat.at
SUMMARY:Leaders Talk
DESCRIPTION:In einer sich schnell verändernden Welt ist nachhaltiger Erfolg für Unternehmen nicht selbstverständlich. Führende Unternehmen behaupten sich trotz unvorhersehbarer Märkte durch gezielte Anpassungsstrategien. Die Neuro Performance Group unterstützt junge Firmen in Wandlungsprozessen und bietet t eine Plattform\, auf der etablierte Unternehmen mit Startups zusammenarbeiten können\, um langfristigen Erfolg zu sichern. \nMehr Informationen \n 
URL:https://senat.at/event/leaders-talk/
LOCATION:Schloss Glanegg\, Schloss Glanegg 2\, Grödig\, 5082\, Österreich
CATEGORIES:Bildung,Netzwerk-Veranstaltungen
ATTACH;FMTTYPE=image/png:https://senat.at/wp-content/uploads/2160x1080_Eventbrite_STD_Leaderstalk_ohne-STD.png
END:VEVENT
BEGIN:VEVENT
DTSTART;VALUE=DATE:20250328
DTEND;VALUE=DATE:20250330
DTSTAMP:20260423T115436
CREATED:20250205T113558Z
LAST-MODIFIED:20250205T113558Z
UID:42169-1743141600-1743227999@senat.at
SUMMARY:IMARK STRATEGY BITES 3.0 Dornbirn
DESCRIPTION:Unser geschätztes Präsidiumsmitglied Christoph Ettlmayr lädt zu den IMARK STRATEGY BITES 3.0 – einer exklusiven Plattform für visionäre UnternehmerInnen und Führungskräfte. Im Mittelpunkt steht die Frage\, wie Verhaltensänderungen bei Mitarbeitern gezielt gefördert werden können\, um Strategien erfolgreich umzusetzen. Von der Übersetzung relevanter Marktsignale in konkrete Handlungsfelder bis hin zur Schaffung optimaler Rahmenbedingungen für Veränderungsbereitschaft – ein wertvoller Austausch für alle\, die Strategiearbeit nachhaltig gestalten wollen. \nWeitere Informationen \n 
URL:https://senat.at/event/imark-strategy-bites-3-0-dornbirn/
LOCATION:Mohrenbrauerei Dornbirn\, Dr.-Waibel-Straße 2\, Dornbirn\, Vorarlberg\, 6850
CATEGORIES:Bildung,Netzwerk-Veranstaltungen
ATTACH;FMTTYPE=image/png:https://senat.at/wp-content/uploads/ba22a2d1-85c3-ee85-e481-893732700e16.png
END:VEVENT
END:VCALENDAR