BEGIN:VCALENDAR
VERSION:2.0
PRODID:-//Senat der Wirtschaft - ECPv6.0.12//NONSGML v1.0//EN
CALSCALE:GREGORIAN
METHOD:PUBLISH
X-WR-CALNAME:Senat der Wirtschaft
X-ORIGINAL-URL:https://senat.at
X-WR-CALDESC:Veranstaltungen für Senat der Wirtschaft
REFRESH-INTERVAL;VALUE=DURATION:PT1H
X-Robots-Tag:noindex
X-PUBLISHED-TTL:PT1H
BEGIN:VTIMEZONE
TZID:Europe/Vienna
BEGIN:DAYLIGHT
TZOFFSETFROM:+0100
TZOFFSETTO:+0200
TZNAME:CEST
DTSTART:20260329T010000
END:DAYLIGHT
BEGIN:STANDARD
TZOFFSETFROM:+0200
TZOFFSETTO:+0100
TZNAME:CET
DTSTART:20261025T010000
END:STANDARD
END:VTIMEZONE
BEGIN:VEVENT
DTSTART;TZID=Europe/Vienna:20260512T170000
DTEND;TZID=Europe/Vienna:20260512T220000
DTSTAMP:20260422T152914
CREATED:20260319T130802Z
LAST-MODIFIED:20260319T135947Z
UID:46636-1778605200-1778623200@senat.at
SUMMARY:SENAT-Lounge: Kultur entsteht nicht remote – oder doch?
DESCRIPTION:Welche Rolle spielt der physische Raum in hybriden Organisationen?\nHybridarbeit hat gezeigt: Homeoffice bringt viele Vorteile. Doch Forschung und Praxis warnen: Wer den physischen Arbeitsplatz vernachlässigt\, schwächt Führung\, Zusammenarbeit\, Vertrauen und Innovationskraft\, und damit Leistung und Zukunftsfähigkeit des Unternehmens. \nGemeinsam mit Sedus diskutieren wir im bluebird.space in Salzburg\, wie Präsenz als strategischer Hebel wirkt\, Teams verzahnt\, Führung stärkt und Arbeitsräume zu einem echten Erfolgsfaktor transformiert. \n📅 12. Mai\, 17:00 Einlass\n18:00  Beginn\n📍bluebird.space\, Siezenheimer Str. 39a\, 5020 Salzburg \nZur Anmeldung bitte hier klicken
URL:https://senat.at/event/senat-lounge-kultur-entsteht-nicht-remote-oder-doch/
ATTACH;FMTTYPE=image/png:https://senat.at/wp-content/uploads/BlueBirdSpace-6.png
END:VEVENT
END:VCALENDAR