BEGIN:VCALENDAR
VERSION:2.0
PRODID:-//Senat der Wirtschaft - ECPv6.0.12//NONSGML v1.0//EN
CALSCALE:GREGORIAN
METHOD:PUBLISH
X-ORIGINAL-URL:https://senat.at
X-WR-CALDESC:Veranstaltungen für Senat der Wirtschaft
REFRESH-INTERVAL;VALUE=DURATION:PT1H
X-Robots-Tag:noindex
X-PUBLISHED-TTL:PT1H
BEGIN:VTIMEZONE
TZID:Europe/Vienna
BEGIN:DAYLIGHT
TZOFFSETFROM:+0100
TZOFFSETTO:+0200
TZNAME:CEST
DTSTART:20260329T010000
END:DAYLIGHT
BEGIN:STANDARD
TZOFFSETFROM:+0200
TZOFFSETTO:+0100
TZNAME:CET
DTSTART:20261025T010000
END:STANDARD
END:VTIMEZONE
BEGIN:VEVENT
DTSTART;TZID=Europe/Vienna:20260511T120000
DTEND;TZID=Europe/Vienna:20260511T180000
DTSTAMP:20260422T153029
CREATED:20260319T135321Z
LAST-MODIFIED:20260319T135726Z
UID:46641-1778500800-1778522400@senat.at
SUMMARY:Salzburger Wirtschaftsforum
DESCRIPTION:Neustart für Europa! Wie wir international wieder nach vorne kommen.\nBeim Salzburger Wirtschaftsforum treffen Sie auf internationale Top-Experten und inspirierende Persönlichkeiten. Die Tagung bietet Führungskräften aus Wirtschaft\, Gesellschaft und Politik eine Plattform für Austausch\, Dialog\, neue Ideen und wertvolle Kontakte – weit über Salzburg hinaus. \nSENAT-Partner erhalten einen exklusiven Rabatt von 10 % auf den regulären Ticketpreis!\n \n📅 11. Mai\, 12:00\n📍Salzburg Congress\, Karajan Saal\, Auerspergstraße 6\, 5020 Salzburg \nWeitere Informationen bitte hier klicken \nDamit Sie den Exklusivrabatt erhalten bitte anmelden unter: office@salzburger-wirtschaftsforum.at \n 
URL:https://senat.at/event/salzburger-wirtschaftsforum/
ATTACH;FMTTYPE=image/png:https://senat.at/wp-content/uploads/SBG-WIFO-1.png
END:VEVENT
END:VCALENDAR