BEGIN:VCALENDAR
VERSION:2.0
PRODID:-//Senat der Wirtschaft - ECPv6.0.12//NONSGML v1.0//EN
CALSCALE:GREGORIAN
METHOD:PUBLISH
X-ORIGINAL-URL:https://senat.at
X-WR-CALDESC:Veranstaltungen für Senat der Wirtschaft
REFRESH-INTERVAL;VALUE=DURATION:PT1H
X-Robots-Tag:noindex
X-PUBLISHED-TTL:PT1H
BEGIN:VTIMEZONE
TZID:Europe/Vienna
BEGIN:DAYLIGHT
TZOFFSETFROM:+0100
TZOFFSETTO:+0200
TZNAME:CEST
DTSTART:20260329T010000
END:DAYLIGHT
BEGIN:STANDARD
TZOFFSETFROM:+0200
TZOFFSETTO:+0100
TZNAME:CET
DTSTART:20261025T010000
END:STANDARD
END:VTIMEZONE
BEGIN:VEVENT
DTSTART;VALUE=DATE:20260130
DTEND;VALUE=DATE:20260201
DTSTAMP:20260422T172452
CREATED:20241217T142657Z
LAST-MODIFIED:20260126T172922Z
UID:41860-1769752800-1769839199@senat.at
SUMMARY:Ball der Wiener Wirtschaft
DESCRIPTION:Der SENAT DER WIRTSCHAFT setzt seine glanzvolle Tradition fort und wird auch im Neuen Jahr den Ball der Wiener Wirtschaft am 30. Jänner 2026 in der Wiener Hofburg besuchen. \nEin Höhepunkt des Abends ist der Star-Act mit Roland Kaiser\, einem der erfolgreichsten deutschsprachigen Entertainer seiner Generation. \nUnser exklusives Package „Ball der Wiener Wirtschaft“ beinhaltet:\n– Empfang im eleganten Anantara Palais Hansen Vienna\n– Shuttle-Service zur Hofburg\n– Ballkarte inklusive Sitzplatz in der Seitengalerie des Festsaals \nFreitag\, 30.01.2026 \n17.30 Uhr – Empfang im Anantara Hotel Hansen Vienna\n19.30 Uhr – Empfang in der HOFBURG Vienna\n21.00 Uhr – Offizielle Eröffnung „Ball der Wiener Wirtschaft“\n00:30 Uhr – “Mitternachtssnack” im Weinkeller der HOFBURG Vienna \nDresscode: Langes Abendkleid\, große Ballrobe Smoking\, Frack\, Gala-Uniform \nWir freuen uns darauf\, diesen besonderen Abend gemeinsam zu verbringen! \n  \nHier anmelden!  \n 
URL:https://senat.at/event/balll-der-wiener-wirtschaft/
LOCATION:Hofburg\, Heldenplatz\, Wien\, Wien\, 1010\, Österreich
ATTACH;FMTTYPE=image/png:https://senat.at/wp-content/uploads/Ball-der-Wirtschaft.png
END:VEVENT
END:VCALENDAR