BEGIN:VCALENDAR
VERSION:2.0
PRODID:-//Senat der Wirtschaft - ECPv6.0.12//NONSGML v1.0//EN
CALSCALE:GREGORIAN
METHOD:PUBLISH
X-ORIGINAL-URL:https://senat.at
X-WR-CALDESC:Veranstaltungen für Senat der Wirtschaft
REFRESH-INTERVAL;VALUE=DURATION:PT1H
X-Robots-Tag:noindex
X-PUBLISHED-TTL:PT1H
BEGIN:VTIMEZONE
TZID:Europe/Vienna
BEGIN:DAYLIGHT
TZOFFSETFROM:+0100
TZOFFSETTO:+0200
TZNAME:CEST
DTSTART:20260329T010000
END:DAYLIGHT
BEGIN:STANDARD
TZOFFSETFROM:+0200
TZOFFSETTO:+0100
TZNAME:CET
DTSTART:20261025T010000
END:STANDARD
END:VTIMEZONE
BEGIN:VEVENT
DTSTART;TZID=Europe/Vienna:20260128T150000
DTEND;TZID=Europe/Vienna:20260128T190000
DTSTAMP:20260422T172451
CREATED:20251113T164620Z
LAST-MODIFIED:20260115T115633Z
UID:45896-1769612400-1769626800@senat.at
SUMMARY:Philosophischer Salon: Haltung oder Haftung?
DESCRIPTION:Philosophischer Salon bei Lobmeyr – ein Traditionsort für neue Gedanken \nDer Philosophische Salon\, initiiert vom SENAT DER WIRTSCHAFT\, findet am Mittwoch\, 28. Jänner\, in den historischen Verkaufsräumen des Wiener Traditionsunternehmens Lobmeyr (Salesianergasse 9\, 1030 Wien) statt. Gastgeber ist Senator Johannes Rath\, Ururenkel des Firmengründers und Geschäftsführer der Firma Lobmeyr. \nThema de Abends: „Haltung oder Haftung” \nIm Mittelpunkt des Abends steht ein zentrales Spannungsfeld unserer Zeit: Gesinnungsethik versus Verantwortungsethik – und damit die Frage\, wie Politik und Wirtschaft zwischen moralischem Anspruch\, ideologischer Überformung und realer Umsetzbarkeit navigieren können. \nDabei rücken wir auch die Entwicklung der bürgerlichen Parteien Europas in den Fokus: Haben sie – geprägt von gesellschaftlichen Stimmungen und medialem Druck – ihr wirtschaftspolitisches Profil und ihre eigenen Grundwerte zu stark verwässert? Oder eröffnet gerade dieser Moment eine Chance zur Rückbesinnung auf Verantwortung\, Realismus und unternehmerische Vernunft? \nAls Gesprächspartner begrüßen wir Finanzminister a.D. und MARE TechnoPark-CEO Mag. Gernot Blümel sowie Prof. Martin Rhonheimer\, Gründungspräsident des Austria Institute of Economics and Social Philosophy. Gemeinsam werden sie der Frage nachgehen\, wie Haltung\, Verantwortung und wirtschaftliche Realität in Zeiten gesellschaftlicher und politischer Spannungen neu austariert werden müssen. \nABLAUF: \n16:30 Uhr – Eintreffen und Registrierung\n17:00 Uhr – Exklusive Führung durch die Lobmeyr-Manufaktur\n18:00 Uhr – Offizieller Beginn und Begrüßung\n18:15 Uhr – Impulsvortrag und Diskussion durch Prof. Martin Rhonheimer und Mag. Gernot Blümel\n19:30 Uhr – Conclusio: Hans Harrer\, Vorstandsvorsitzender SENAT DER WIRTSCHAFT\nGet-together bei Speis und Trank mit musikalischem Ausklang durch Pianist Boris Rapl \nUm einen offenen\, ehrlichen und zugleich geschützten Austausch auf höchstem Niveau zu ermöglichen\, gelten die Chatham House Rules. \nDer traditionsreiche Verkaufsraum\, in dem bereits Konzerte\, Lesungen und andere Kulturveranstaltungen stattgefunden haben\, bietet Platz für rund 50 Sitzplätze sowie zusätzliche Stehplätze. \nDie Veranstaltung versteht sich als Auftakt einer Reihe\, die künftig regelmäßig bei Lobmeyr stattfindet – ein Ort\, an dem Tradition\, Kunsthandwerk und lebendiger Austausch zusammenkommen. \nWir freuen uns auf einen facettenreichen Dialog\, pointierte Impulse und einen Abend\, der Klarheit\, Tiefgang und neue Perspektiven verbindet.
URL:https://senat.at/event/philosophischer-salon/
LOCATION:J. & L. Lobmeyr GmbH\, Salesianergasse 9\, Wien\, 1030
ATTACH;FMTTYPE=image/png:https://senat.at/wp-content/uploads/Lobmeyer-4.png
END:VEVENT
END:VCALENDAR