BEGIN:VCALENDAR
VERSION:2.0
PRODID:-//Senat der Wirtschaft - ECPv6.0.12//NONSGML v1.0//EN
CALSCALE:GREGORIAN
METHOD:PUBLISH
X-ORIGINAL-URL:https://senat.at
X-WR-CALDESC:Veranstaltungen für Senat der Wirtschaft
REFRESH-INTERVAL;VALUE=DURATION:PT1H
X-Robots-Tag:noindex
X-PUBLISHED-TTL:PT1H
BEGIN:VTIMEZONE
TZID:Europe/Vienna
BEGIN:DAYLIGHT
TZOFFSETFROM:+0100
TZOFFSETTO:+0200
TZNAME:CEST
DTSTART:20260329T010000
END:DAYLIGHT
BEGIN:STANDARD
TZOFFSETFROM:+0200
TZOFFSETTO:+0100
TZNAME:CET
DTSTART:20261025T010000
END:STANDARD
END:VTIMEZONE
BEGIN:VEVENT
DTSTART;TZID=Europe/Vienna:20260108T100000
DTEND;TZID=Europe/Vienna:20260108T190000
DTSTAMP:20260422T192113
CREATED:20251031T113700Z
LAST-MODIFIED:20260106T191052Z
UID:45763-1767866400-1767898800@senat.at
SUMMARY:Neujahrsempfang 2026
DESCRIPTION:Mit Anstand gegen den Stand der Dinge.\n\n\n\nWir laden Sie herzlich zum NEUJAHRSEMPFANG in den Festsaal der Universität Wien ein\, der unter dem Motto „MIT ANSTAND GEGEN DEN STAND DER DINGE“ steht. \nDie Welt dreht sich schneller\, als wir reagieren können. Während die Politik zögert – handeln wir. Jetzt ist der Moment\, Haltung zu zeigen\, Courage zu beweisen und Verantwortung zu übernehmen. \nDer SENAT DER WIRTSCHAFT öffnet seine Türen für Menschen\, die nicht nur reden\, sondern gestalten. Für jene\, die Regeln brechen\, ohne ihren Anstand zu verlieren. Für alle\, die Wirtschaft als WIR verstehen. \n10.00 Uhr Check-In | Registrierung neuer Senatoren \n10.30 Uhr Vorstellung und Ehrung der neuen Senatoren \n12.30 Uhr Offizielles Eintreffen \n13.30 Uhr | Begrüßung & Eröffnung\nModeration: Barbara Fleißner \n13.40 Uhr | Keynote\nVerantwortung in herausfordernden Zeiten\nDr. Benita Ferrero-Waldner\, Präsidentin SENAT DER WIRTSCHAFT Österreich \n13.55 Uhr | Keynote\nSpielfeld der Verantwortung\nClemens Doppler\, Unternehmer\, zweifacher Volleyball-Europameister\, Vizeweltmeister\, Olympiateilnehmer \n14.15 Uhr | Arena der Rulebreaker – Streitgespräch\nMacht der Medien: Kontrolle\, Kampagne oder Korrektiv?\nModeration: Martina Salomon (Herausgeberin KURIER) diskutiert mit Roger Köppel (Herausgeber WELTWOCHE) \n15.00 Uhr | Keynote\nMut zur Haltung: Unternehmerisch Verantwortung übernehmen\nHeini Staudinger\, Geschäftsführer GEA Waldviertel GmbH \n15.10 Uhr | Podiumsdiskussion\nPolitik versus Wirtschaft oder Versagen versus Verantwortung?\nModeration: Robert Kleedorfer\, Wirtschaftsressortleiter KURIER\nPodiumsgäste:\n– Gudula Walterskirchen (Libratus)\n– Georg Dornauer (Tiroler Landtagsabgeordneter)\n– Karl-Heinz Strauss (PORR AG)\n– Hanno Lorenz (Agenda Austria)\n– Heini Staudinger (GEA Waldviertler) \n16.10 Uhr | Conclusio\nWirtschaftliche Verantwortung als Kompass für das neue Jahr\nHans Harrer\, Vorstandsvorsitzender SENAT DER WIRTSCHAFT Österreich \n16.30 | Uhr Get together und Networking \nWir freuen uns auf Sie! \n\n\nDie Teilnahme an dieser Veranstaltung ist ausschließlich Senatoren vorbehalten.
URL:https://senat.at/event/neujahrsempfang-2026/
LOCATION:Universität Wien\, Universitätsring 1\, Wien\, 1010
ATTACH;FMTTYPE=image/png:https://senat.at/wp-content/uploads/Event_Sujet_Jahresauftakt_845x321px_03.png
END:VEVENT
END:VCALENDAR