BEGIN:VCALENDAR
VERSION:2.0
PRODID:-//Senat der Wirtschaft - ECPv6.0.12//NONSGML v1.0//EN
CALSCALE:GREGORIAN
METHOD:PUBLISH
X-ORIGINAL-URL:https://senat.at
X-WR-CALDESC:Veranstaltungen für Senat der Wirtschaft
REFRESH-INTERVAL;VALUE=DURATION:PT1H
X-Robots-Tag:noindex
X-PUBLISHED-TTL:PT1H
BEGIN:VTIMEZONE
TZID:Europe/Vienna
BEGIN:DAYLIGHT
TZOFFSETFROM:+0100
TZOFFSETTO:+0200
TZNAME:CEST
DTSTART:20250330T010000
END:DAYLIGHT
BEGIN:STANDARD
TZOFFSETFROM:+0200
TZOFFSETTO:+0100
TZNAME:CET
DTSTART:20251026T010000
END:STANDARD
END:VTIMEZONE
BEGIN:VEVENT
DTSTART;TZID=Europe/Vienna:20251030T180000
DTEND;TZID=Europe/Vienna:20251030T193000
DTSTAMP:20260422T225725
CREATED:20251024T113926Z
LAST-MODIFIED:20251024T121250Z
UID:45693-1761847200-1761852600@senat.at
SUMMARY:BITCOIN - Digitales Gold oder Hype?
DESCRIPTION:Am 30. Oktober lädt der SENAT DER WIRTSCHAFT gemeinsam mit 21bitcoin zu einem spannenden Webinar über Bitcoin und seine Bedeutung in der heutigen Finanzwelt ein. \nDer österreichische Bitcoin-Experte Daniel Winklhammer erklärt dabei\, was Bitcoin wirklich ist\, warum es immer relevanter wird und weshalb es als digitales Gold gilt. Außerdem zeigt er auf\, welche Rolle Bitcoin künftig im globalen Finanzsystem spielen könnte – und warum es gekommen ist\, um zu bleiben. \nDaniel Winklhammer ist Speaker und Unternehmer mit einem klaren Fokus auf Bitcoin. Er ist außerdem Gründer und CEO von 21bitcoin\, einem innovativen Bitcoin-only Unternehmen aus Salzburg\, das derzeit mehr als 100.000 Nutzern den Kauf und die Verwahrung von Bitcoin ermöglicht. Mit einem jährlichen Handelsvolumen von rund einer halben Milliarde Euro zählt das Unternehmen bereits zu den führenden Bitcoin-Plattformen in Europa. \n📆 Termin: 30. Oktober \n🏡 Veranstalter: 21bitcoin in Kooperation mit dem Senat der Wirtschaft💡 \nThema: Bitcoin verstehen – und warum es gekommen ist\, um zu bleiben \n➡️ Melden Sie sich jetzt an und sicheren Sie sich Ihren Platz beim Webinar!
URL:https://senat.at/event/bitcoin-digitales-gold-oder-hype/
ATTACH;FMTTYPE=image/jpeg:https://senat.at/wp-content/uploads/06c90ce5-e8de-fecb-13c4-2aa6994167fd.jpeg
END:VEVENT
END:VCALENDAR