BEGIN:VCALENDAR
VERSION:2.0
PRODID:-//Senat der Wirtschaft - ECPv6.0.12//NONSGML v1.0//EN
CALSCALE:GREGORIAN
METHOD:PUBLISH
X-WR-CALNAME:Senat der Wirtschaft
X-ORIGINAL-URL:https://senat.at
X-WR-CALDESC:Veranstaltungen für Senat der Wirtschaft
REFRESH-INTERVAL;VALUE=DURATION:PT1H
X-Robots-Tag:noindex
X-PUBLISHED-TTL:PT1H
BEGIN:VTIMEZONE
TZID:Europe/Vienna
BEGIN:DAYLIGHT
TZOFFSETFROM:+0100
TZOFFSETTO:+0200
TZNAME:CEST
DTSTART:20250330T010000
END:DAYLIGHT
BEGIN:STANDARD
TZOFFSETFROM:+0200
TZOFFSETTO:+0100
TZNAME:CET
DTSTART:20251026T010000
END:STANDARD
END:VTIMEZONE
BEGIN:VEVENT
DTSTART;VALUE=DATE:20251002
DTEND;VALUE=DATE:20251008
DTSTAMP:20260423T010022
CREATED:20250204T115216Z
LAST-MODIFIED:20250204T150914Z
UID:42135-1759384800-1759816799@senat.at
SUMMARY:Delegationsreise Marrakesch
DESCRIPTION:SENAT DER WIRTSCHAFT Österreich und Schweiz laden ein! \nErleben Sie mit uns eine exklusive Experience Tour nach Marrakesch – eine einmalige Gelegenheit\, die faszinierende Stadt in Zusammenarbeit mit dem Königreich von Mohammed VI. zu entdecken. \nMarrakesch\, mit über einer Million Einwohnern die viertgrößte Stadt Marokkos\, wird auch als „la Ville Rouge“ – die rote Stadt – bezeichnet. Gelegen am Fuße des imposanten Atlasgebirges und mit seiner atemberaubenden Medina\, die zum UNESCO-Weltkulturerbe gehört\, erwartet Sie eine Reise voller Kultur\, Geschichte und einzigartiger Eindrücke. \nWeitere Informationen \n 
URL:https://senat.at/event/delegationsreise-marrakesch/
CATEGORIES:Netzwerk-Veranstaltungen,SENATs-Veranstaltungen
ATTACH;FMTTYPE=image/png:https://senat.at/wp-content/uploads/2160x1080_Eventbride_STD_Marrakesh_0125.png
END:VEVENT
END:VCALENDAR