BEGIN:VCALENDAR
VERSION:2.0
PRODID:-//Senat der Wirtschaft - ECPv6.0.12//NONSGML v1.0//EN
CALSCALE:GREGORIAN
METHOD:PUBLISH
X-ORIGINAL-URL:https://senat.at
X-WR-CALDESC:Veranstaltungen für Senat der Wirtschaft
REFRESH-INTERVAL;VALUE=DURATION:PT1H
X-Robots-Tag:noindex
X-PUBLISHED-TTL:PT1H
BEGIN:VTIMEZONE
TZID:Europe/Vienna
BEGIN:DAYLIGHT
TZOFFSETFROM:+0100
TZOFFSETTO:+0200
TZNAME:CEST
DTSTART:20250330T010000
END:DAYLIGHT
BEGIN:STANDARD
TZOFFSETFROM:+0200
TZOFFSETTO:+0100
TZNAME:CET
DTSTART:20251026T010000
END:STANDARD
END:VTIMEZONE
BEGIN:VEVENT
DTSTART;TZID=Europe/Vienna:20250515T170000
DTEND;TZID=Europe/Vienna:20250515T210000
DTSTAMP:20260423T102007
CREATED:20250123T105658Z
LAST-MODIFIED:20250123T105658Z
UID:41991-1747328400-1747342800@senat.at
SUMMARY:4. Easy Business Get-Together
DESCRIPTION:Peter Kraus Business Network & DIANE Group laden zum lockeren Afterwork im angesagten WOLKE7 Beach Club ein.\nWillkommen: Opinion Leader\, Investoren & Macher.\nIbiza Feeling trifft Business!\nDresscode: Summer Chic \nWeitere Informationen \nHier anmelden \n 
URL:https://senat.at/event/4-easy-business-get-together/
CATEGORIES:Netzwerk-Veranstaltungen
ATTACH;FMTTYPE=image/png:https://senat.at/wp-content/uploads/EasyBusiness.png
END:VEVENT
END:VCALENDAR