BEGIN:VCALENDAR
VERSION:2.0
PRODID:-//Senat der Wirtschaft - ECPv6.0.12//NONSGML v1.0//EN
CALSCALE:GREGORIAN
METHOD:PUBLISH
X-ORIGINAL-URL:https://senat.at
X-WR-CALDESC:Veranstaltungen für Senat der Wirtschaft
REFRESH-INTERVAL;VALUE=DURATION:PT1H
X-Robots-Tag:noindex
X-PUBLISHED-TTL:PT1H
BEGIN:VTIMEZONE
TZID:Europe/Vienna
BEGIN:DAYLIGHT
TZOFFSETFROM:+0100
TZOFFSETTO:+0200
TZNAME:CEST
DTSTART:20260329T010000
END:DAYLIGHT
BEGIN:STANDARD
TZOFFSETFROM:+0200
TZOFFSETTO:+0100
TZNAME:CET
DTSTART:20261025T010000
END:STANDARD
END:VTIMEZONE
BEGIN:VEVENT
DTSTART;VALUE=DATE:20260422
DTEND;VALUE=DATE:20260427
DTSTAMP:20260422T134457
CREATED:20251006T093241Z
LAST-MODIFIED:20260408T092539Z
UID:45544-1776837600-1777183199@senat.at
SUMMARY:Millstätter Wirtschaftsgespräche 2026
DESCRIPTION:Das Thema 2026: WIRTSCHAFT.MACHT.ZUKUNFT. \nWelche Macht hat und braucht die Wirtschaft\, um mehr aus der Zukunft zu machen? Denn in einer Zeit der globalen Spannungen\, technologischen Umbrüche und zunehmenden politischen Eingriffe wird eine erfolgreiche Entwicklung von Unternehmen und Standorten immer schwerer plan- und gestaltbar. \nWem gehört die Zukunft? Europa und Österreich suchen für ihren Erfolg Haltegriffe in einer Welt\, die sich schneller verändert\, als sie sich erklären lässt. Gleichzeitig steigt der Druck auf unsere Betriebe\, die täglich Realität schaffen: durch Erfahrung\, Ideen\, Investitionen und Arbeitsplätze. Ihre Verantwortlichen sehnen sich nach Stabilität\, Zuversicht und Freiraum. Nur dann sind die Leistungen für Wohlstand und soziale Sicherheit auch künftig möglich. \nWelches Maß an Absicherung\, gegenseitigem Vertrauen\, klaren Rahmenbedingungen braucht es zwischen Wirtschaft\, Politik und Gesellschaft künftig? Hat unsere Wirtschaft genug Macht mehr aus der Zukunft zu machen? Wie lässt sich die Macht derer limitieren\, die fairen Wettbewerb und unser Wertesystem außer Kraft setzen wollen? Und was lähmt jene\, die bereit wären\, mehr zu tun? \nBei den Millstätter Wirtschaftsgesprächen 2026 diskutieren über neue Machtverhältnisse und eine besser machbare Zukunft u.a. EZB-Cybersecurity-Head Philipp Amann\, EU-Kommissar Magnus Brunner\, Institut für Rechtsphilosophie und ehem. Vizekanzler Clemens Jabloner\, AMS-Chefin Petra Draxl\, Wifo-Chef Gabriel Felbermayer\, Wiener Zeitung-Geschäftsführer Martin Fleischhacker\, Austria Email CEO Martin Hagleitner\,  GD der Österreichischen Staatsdruckerei Helmut Lackner\, ÖBB-Chef Andreas Matthä\, FinProk-Präsident Wolfgang Peschorn\, Leiterin der Austrian School of Government Ursula Rosenbichler und ÖBf-Vorstand Georg Schöppl. \nDer SENAT DER WIRTSCHAFT ist auch heuer wieder Co-Veranstalter und möchte Sie gerne einladen. Senatoren profitieren zudem von einer exklusiven Ermäßigung auf die Tickets\, um ihre Teilnahme besonders attraktiv zu gestalten. \nAchtung: Limitierte Plätze!\nTipp:  Senatoren profitieren von einer exklusiven Ermäßigung auf die Tickets\,  sichern Sie sich diese hier! \nDas detaillierte Programm finden Sie unter https://mwg.or.at/
URL:https://senat.at/event/millstaetter-wirtschaftsgespraeche-2026/
ATTACH;FMTTYPE=image/jpeg:https://senat.at/wp-content/uploads/NW_Partner_Sujet01_NL_MWG26_SDWZusatz-scaled.jpg
END:VEVENT
BEGIN:VEVENT
DTSTART;TZID=Europe/Vienna:20260424T083000
DTEND;TZID=Europe/Vienna:20260424T100000
DTSTAMP:20260422T134457
CREATED:20250117T094712Z
LAST-MODIFIED:20260420T145903Z
UID:41962-1777019400-1777024800@senat.at
SUMMARY:Side Event des SENAT DER WIRTSCHAFT bei den Millstätter Wirtschaftsgesprächen
DESCRIPTION:Am 24. April von 8.30-10.00 Uhr wird es im Zuge der Millstätter Wirtschaftsgespräche im ehem. Gerichtssaal im Stift Millstatt einen Side Event des SENAT DER WIRTSCHAFT geben. \nThema: Gestalten heißt Haltung.\nWer Zukunft formen will\, braucht Mut\, Rückgrat und die Bereitschaft\, Verantwortung zu übernehmen – nicht nur Theorie\, sondern Praxis.\n\nBei diesem Side-Event des SENAT DER WIRTSCHAFT  diskutieren Hans Harrer\, Vorstandsvorsitzender SENAT DER WIRTSCHAFT\, Martin Schaller\, Generaldirektor der Raiffeisen-Landesbank Steiermark und Geschäftsführender Gesellschafter von K industries GmbH Franz Kreuzer \, wie Macht\, Entscheidungen und Haltung zusammenwirken und warum gerade die Momente\, in denen Haltung fehlt\, die größten Lehren für Wirtschaft und Gesellschaft bereithalten.\n\nDie Zukunft gehört den Rulebreakern\, den Crazy-Ones à la Steve Jobs: jenen\, die den Mut haben\, Haltung zu zeigen\, um die Welt aktiv zu gestalten.\n\nBereits jetzt freuen wir uns über Ihre Teilnahme. Denn wer kommt\, denkt danach anders über Zukunft\, Verantwortung und Macht.\nDetails folgen!\nZur Anmeldung bitte hier klicken \n 
URL:https://senat.at/event/millstaetter-wirtschaftsgespraeche/
LOCATION:Millstatt\, Stiftgasse 1\, Millstatt\, Kärnten\, 9872\, Österreich
ATTACH;FMTTYPE=image/png:https://senat.at/wp-content/uploads/Side-Event-Millstaetter1.png
END:VEVENT
BEGIN:VEVENT
DTSTART;TZID=Europe/Vienna:20260511T120000
DTEND;TZID=Europe/Vienna:20260511T180000
DTSTAMP:20260422T134457
CREATED:20260319T135321Z
LAST-MODIFIED:20260319T135726Z
UID:46641-1778500800-1778522400@senat.at
SUMMARY:Salzburger Wirtschaftsforum
DESCRIPTION:Neustart für Europa! Wie wir international wieder nach vorne kommen.\nBeim Salzburger Wirtschaftsforum treffen Sie auf internationale Top-Experten und inspirierende Persönlichkeiten. Die Tagung bietet Führungskräften aus Wirtschaft\, Gesellschaft und Politik eine Plattform für Austausch\, Dialog\, neue Ideen und wertvolle Kontakte – weit über Salzburg hinaus. \nSENAT-Partner erhalten einen exklusiven Rabatt von 10 % auf den regulären Ticketpreis!\n \n📅 11. Mai\, 12:00\n📍Salzburg Congress\, Karajan Saal\, Auerspergstraße 6\, 5020 Salzburg \nWeitere Informationen bitte hier klicken \nDamit Sie den Exklusivrabatt erhalten bitte anmelden unter: office@salzburger-wirtschaftsforum.at \n 
URL:https://senat.at/event/salzburger-wirtschaftsforum/
ATTACH;FMTTYPE=image/png:https://senat.at/wp-content/uploads/SBG-WIFO-1.png
END:VEVENT
BEGIN:VEVENT
DTSTART;TZID=Europe/Vienna:20260512T170000
DTEND;TZID=Europe/Vienna:20260512T220000
DTSTAMP:20260422T134457
CREATED:20260319T130802Z
LAST-MODIFIED:20260319T135947Z
UID:46636-1778605200-1778623200@senat.at
SUMMARY:SENAT-Lounge: Kultur entsteht nicht remote – oder doch?
DESCRIPTION:Welche Rolle spielt der physische Raum in hybriden Organisationen?\nHybridarbeit hat gezeigt: Homeoffice bringt viele Vorteile. Doch Forschung und Praxis warnen: Wer den physischen Arbeitsplatz vernachlässigt\, schwächt Führung\, Zusammenarbeit\, Vertrauen und Innovationskraft\, und damit Leistung und Zukunftsfähigkeit des Unternehmens. \nGemeinsam mit Sedus diskutieren wir im bluebird.space in Salzburg\, wie Präsenz als strategischer Hebel wirkt\, Teams verzahnt\, Führung stärkt und Arbeitsräume zu einem echten Erfolgsfaktor transformiert. \n📅 12. Mai\, 17:00 Einlass\n18:00  Beginn\n📍bluebird.space\, Siezenheimer Str. 39a\, 5020 Salzburg \nZur Anmeldung bitte hier klicken
URL:https://senat.at/event/senat-lounge-kultur-entsteht-nicht-remote-oder-doch/
ATTACH;FMTTYPE=image/png:https://senat.at/wp-content/uploads/BlueBirdSpace-6.png
END:VEVENT
BEGIN:VEVENT
DTSTART;TZID=Europe/Vienna:20260730T153000
DTEND;TZID=Europe/Vienna:20260730T220000
DTSTAMP:20260422T134457
CREATED:20260120T090919Z
LAST-MODIFIED:20260319T100506Z
UID:46304-1785425400-1785448800@senat.at
SUMMARY:Villacher Kirchtag 2026
DESCRIPTION:Einladung zum Villacher Kirchtag – Ein Fest der Tradition und Freude \nGemeinsam mit unseren geschätzten Senatoren Helmut Petschar (Kärntnermilch) und René Tarmastin (LHI Euronationale Spedition) laden wir Sie herzlich ein\, den Villacher Kirchtag zu erleben – das Highlight der Brauchtumswoche in Villachs wunderschön geschmückter Altstadt. \nMit rund 450.000 Besuchern ist der Villacher Kirchtag das größte Brauchtumsfest Österreichs und zieht jedes Jahr zahlreiche Gäste an. Über 200 Aussteller aus vielen Teilen des Landes sorgen für ein reichhaltiges Angebot an Speisen\, Getränken und Unterhaltung für Jung und Alt. Lassen Sie sich von der traditionellen Atmosphäre verzaubern – bei einem spannenden Enten ziehen oder einem köstlichen Lebkuchenherz. \nEckdaten der Veranstaltung: \n📅 Datum: 30. Juli 2026\n⏰ Uhrzeit:  voraussichtlich 15.30 Uhr\, genau Uhrzeit wird noch bekannt gegeben\n📍  Ort: 9524 Villach \nDas genaue Programm folgt noch! \nAnmeldung \nHotelempfehlung: \nHotel Seven: https://www.hotel-seven.at/\nHotel Voco: https://www.ihg.com/voco/hotels/de/de/villach\nHotel City: https://hotelcity.at/ \nGenießen Sie inspirierende Gespräche\, stimmungsvolle Atmosphäre und den Austausch mit engagierten Persönlichkeiten aus dem Netzwerk des SENAT.
URL:https://senat.at/event/villacher-kirchtag-2026/
ATTACH;FMTTYPE=image/png:https://senat.at/wp-content/uploads/Villacher-Kirtag-1-1.png
END:VEVENT
BEGIN:VEVENT
DTSTART;TZID=Europe/Vienna:20260807T180000
DTEND;TZID=Europe/Vienna:20260807T233000
DTSTAMP:20260422T134457
CREATED:20260319T095811Z
LAST-MODIFIED:20260319T100358Z
UID:46623-1786125600-1786145400@senat.at
SUMMARY:Oper im Steinbruch
DESCRIPTION:Wir freuen uns\, Ihnen ein ganz besonderes Kultur-Highlight im malerischen Burgenland präsentieren zu dürfen: die Oper im Steinbruch St. Margarethen – eine der größten und beeindruckendsten Freiluftopernbühnen der Welt\, in einer Reihe mit Verona und Bregenz. \nInmitten des UNESCO-geschützten Römersteinbruchs erwartet Sie am 07. August 2026\, ein unvergesslicher Opernabend: Erleben Sie Giacomo Puccinis Meisterwerk „Tosca“ in einer spektakulären Inszenierung unter freiem Himmel. \n📅 07. August\, ab 18:00 Uhr\n📍Römersteinbruch 2\, 7062 St. Margarethen im Burgenland \nFür weitere Informationen und Anmeldung bitte hier klicken. \n 
URL:https://senat.at/event/oper-im-steinbruch/
ATTACH;FMTTYPE=image/png:https://senat.at/wp-content/uploads/Oper-im-Steinbruch-1.png
END:VEVENT
BEGIN:VEVENT
DTSTART;TZID=Europe/Vienna:20260820T080000
DTEND;TZID=Europe/Vienna:20260822T170000
DTSTAMP:20260422T134457
CREATED:20260116T125358Z
LAST-MODIFIED:20260319T104223Z
UID:46292-1787212800-1787418000@senat.at
SUMMARY:Salzburger Festspiele | August 2026
DESCRIPTION:Es ist uns eine besondere Freude\, Ihnen auch in diesem Jahr ein exklusives VIP-Package für die renommierten Salzburger Festspiele 2026 anbieten zu können. Dieses maßgeschneiderte Package beinhaltet unter anderem Tickets für die begehrtesten Aufführungen\, den Audi VIP Shuttle\, erstklassige Übernachtungen und viele weitere Annehmlichkeiten\, um Ihnen ein unvergleichliches Erlebnis zu bereiten. \nDie Höhepunkte des Programms (tbc)\, zu denen wir Sie herzlich einladen\, sind: \n5. August 2026 – „Il viaggio à Reims” \n6. August 2026 – „Cosi fan tutte” \n7. August 2026 – „JEDERMANN“ \n7. August 2026 – „Ariadne auf Naxos“ \n8. August 2026 – „Carmen“ \n20. August 2026 – „Jedermann“ \n21. August 2026 – „Carmen“ \n22. August 2026 – „Cosi fan tutte“ \nGenießen Sie Kultur auf höchstem Niveau und in einem anspruchsvollen Rahmen! \nInkludierte Leistungen: \nFestspielkarten der Kategorie I\nLimousinen Transfer\nÜbernachtung im 4**** oder 5***** Hotel\nCocktail Empfang mit EINFÜHRUNGSVORTRAG\nExklusives Dinner mit Tischgetränken\, u.v.m. \nWir bitten Sie um eine zeitnahe Reservierung\, da das Kartenkontingent limitiert ist! \nDiese Veranstaltung ist ausschließlich Senatoren vorbehalten!\nZur Anmeldung bitte hier klicken. Fügen Sie bitte den Betreff: Salzburger Festspiele 2026 – SENAT DER WIRTSCHAFT hinzu. \nLassen Sie sich von der einzigartigen Atmosphäre der Salzburger Festspiele verzaubern und genießen Sie diese kulturellen Höhepunkte in exklusivem Ambiente.
URL:https://senat.at/event/salzburger-festspiele-august-2026/
ATTACH;FMTTYPE=image/png:https://senat.at/wp-content/uploads/Festspiele-1.png
END:VEVENT
END:VCALENDAR